BEGIN:VCALENDAR
VERSION:2.0
PRODID:-//Grand Rapids Chamber - ECPv6.15.20//NONSGML v1.0//EN
CALSCALE:GREGORIAN
METHOD:PUBLISH
X-WR-CALNAME:Grand Rapids Chamber
X-ORIGINAL-URL:https://grandrapids.org
X-WR-CALDESC:Events for Grand Rapids Chamber
REFRESH-INTERVAL;VALUE=DURATION:PT1H
X-Robots-Tag:noindex
X-PUBLISHED-TTL:PT1H
BEGIN:VTIMEZONE
TZID:America/Detroit
BEGIN:DAYLIGHT
TZOFFSETFROM:-0500
TZOFFSETTO:-0400
TZNAME:EDT
DTSTART:20250309T070000
END:DAYLIGHT
BEGIN:STANDARD
TZOFFSETFROM:-0400
TZOFFSETTO:-0500
TZNAME:EST
DTSTART:20251102T060000
END:STANDARD
BEGIN:DAYLIGHT
TZOFFSETFROM:-0500
TZOFFSETTO:-0400
TZNAME:EDT
DTSTART:20260308T070000
END:DAYLIGHT
BEGIN:STANDARD
TZOFFSETFROM:-0400
TZOFFSETTO:-0500
TZNAME:EST
DTSTART:20261101T060000
END:STANDARD
BEGIN:DAYLIGHT
TZOFFSETFROM:-0500
TZOFFSETTO:-0400
TZNAME:EDT
DTSTART:20270314T070000
END:DAYLIGHT
BEGIN:STANDARD
TZOFFSETFROM:-0400
TZOFFSETTO:-0500
TZNAME:EST
DTSTART:20271107T060000
END:STANDARD
END:VTIMEZONE
BEGIN:VEVENT
DTSTART;TZID=America/Detroit:20260528T083000
DTEND;TZID=America/Detroit:20260528T100000
DTSTAMP:20260425T115719
CREATED:20260424T174915Z
LAST-MODIFIED:20260424T191712Z
UID:10000475-1779957000-1779962400@grandrapids.org
SUMMARY:Beyond Benefits - Wellness That Makes Work Better
DESCRIPTION:Wellness isn’t the problem. Utilization is. \nLeaders across industries are experiencing it:\nYou’re offering wellness benefits… but your people aren’t using them. \nAnd when utilization is low\, impact is limited. \nThis Mental Health Awareness Month\, HR Collaborative is partnering with HUB International to explore what it really takes to build a wellness strategy that works in practice\, not just on paper. \nJoin us for Beyond Benefits: Wellness that Makes Work Better on Thursday\, May 28th at 9:00 AM as we break down how to move beyond surface-level offerings and build a culture where wellness is understood\, accessible\, and actually used. \nLearn more and register at no-cost 👉 https://bit.ly/42mwnhY
URL:https://grandrapids.org/event/beyond-benefits-wellness-that-makes-work-better/
CATEGORIES:Community Events
ATTACH;FMTTYPE=image/jpeg:https://grandrapids.org/wp-content/uploads/2026/04/WEBSIT_1.jpg
ORGANIZER;CN="HR Collaborative":MAILTO:solutions@hrcollaborative.com
END:VEVENT
BEGIN:VEVENT
DTSTART;TZID=America/Detroit:20261008T180000
DTEND;TZID=America/Detroit:20261008T203000
DTSTAMP:20260425T115719
CREATED:20260424T191515Z
LAST-MODIFIED:20260424T191515Z
UID:10000476-1791482400-1791491400@grandrapids.org
SUMMARY:BloomAwards
DESCRIPTION:MomsBloom is hosting their annual fundraising event on Thursday\, October 8th at 6pm at the Goei Center! This fundraising event celebrates the village behind every family\, beginning with a lively cocktail hour featuring live music\, drinks\, appetizers\, and a silent auction with exclusive experiences and products. The program will highlight MomsBloom’s impact through client stories and recognition of community members and companies who support postpartum families. Tickets start at $99 per person. To sponsor or purchase tickets\, visit https://www.momsbloom.org/ba2026 or contact Kimber Wager at kimber@momsbloom.org.
URL:https://grandrapids.org/event/bloomawards/
LOCATION:Goei Center\, 818 Butterworth St SW\, Grand Rapids\, MI\, 49504
CATEGORIES:Community Events
ATTACH;FMTTYPE=image/png:https://grandrapids.org/wp-content/uploads/2026/04/BA-Invite-Header.png
ORGANIZER;CN="MomsBloom":MAILTO:info@momsbloom.org
END:VEVENT
END:VCALENDAR