BEGIN:VCALENDAR
VERSION:2.0
PRODID:-//Grand Rapids Chamber - ECPv6.15.20//NONSGML v1.0//EN
CALSCALE:GREGORIAN
METHOD:PUBLISH
X-ORIGINAL-URL:https://grandrapids.org
X-WR-CALDESC:Events for Grand Rapids Chamber
REFRESH-INTERVAL;VALUE=DURATION:PT1H
X-Robots-Tag:noindex
X-PUBLISHED-TTL:PT1H
BEGIN:VTIMEZONE
TZID:America/Detroit
BEGIN:DAYLIGHT
TZOFFSETFROM:-0500
TZOFFSETTO:-0400
TZNAME:EDT
DTSTART:20250309T070000
END:DAYLIGHT
BEGIN:STANDARD
TZOFFSETFROM:-0400
TZOFFSETTO:-0500
TZNAME:EST
DTSTART:20251102T060000
END:STANDARD
BEGIN:DAYLIGHT
TZOFFSETFROM:-0500
TZOFFSETTO:-0400
TZNAME:EDT
DTSTART:20260308T070000
END:DAYLIGHT
BEGIN:STANDARD
TZOFFSETFROM:-0400
TZOFFSETTO:-0500
TZNAME:EST
DTSTART:20261101T060000
END:STANDARD
BEGIN:DAYLIGHT
TZOFFSETFROM:-0500
TZOFFSETTO:-0400
TZNAME:EDT
DTSTART:20270314T070000
END:DAYLIGHT
BEGIN:STANDARD
TZOFFSETFROM:-0400
TZOFFSETTO:-0500
TZNAME:EST
DTSTART:20271107T060000
END:STANDARD
END:VTIMEZONE
BEGIN:VEVENT
DTSTART;TZID=America/Detroit:20260430T110000
DTEND;TZID=America/Detroit:20260430T120000
DTSTAMP:20260424T124620
CREATED:20260423T182328Z
LAST-MODIFIED:20260423T182328Z
UID:10000474-1777546800-1777550400@grandrapids.org
SUMMARY:Planning the Exit: Key Transitional Services for a Successful Business Transition
DESCRIPTION:Planning your next business transition? \nTransitioning out of a business or leadership role takes more than signing an agreement — it requires strategic planning to protect your company’s value\, people and operations. Join Jeff Allen\, CPA\, ABV\, principal\, and Matt Latham\, CPA\, CEPA\, principal\, as they discuss key transactional services to consider when preparing for an exit\, including leadership continuity\, financial readiness\, risk management and exit planning for owners and executives. \nRegister today to learn how to plan a smooth\, successful transition for your business.\nRegister here: https://zoom.us/webinar/register/4717748744927/WN_Bbo0l76eTWW_oV3V7gqEzw
URL:https://grandrapids.org/event/planning-the-exit-key-transitional-services-for-a-successful-business-transition/
LOCATION:Zoom Webinar
CATEGORIES:Community Events
ATTACH;FMTTYPE=image/jpeg:https://grandrapids.org/wp-content/uploads/2026/04/Maner-Graphic.jpg
ORGANIZER;CN="Maner Costerisan":MAILTO:inest@publicom.com
END:VEVENT
BEGIN:VEVENT
DTSTART;TZID=America/Detroit:20260505T083000
DTEND;TZID=America/Detroit:20260505T160000
DTSTAMP:20260424T124620
CREATED:20260423T181347Z
LAST-MODIFIED:20260423T181443Z
UID:10000473-1777969800-1777996800@grandrapids.org
SUMMARY:HR Together West Michigan
DESCRIPTION:New! Join West Michigan HR professionals for a day of learning\, connection\, and practical insights at HR Together West Michigan. Co-hosted by the American Society of Employers and The Employers’ Association\, this regional conference brings together HR leaders and practitioners to explore current workplace challenges\, share ideas\, and gain actionable strategies they can apply in their organizations. Attendees will benefit from expert-led sessions\, peer networking\, and valuable conversations focused on building stronger workplaces across the region. \nThis conference is ideal for HR professionals\, business leaders\, and anyone responsible for managing people or organizational culture. Participants will leave the event with fresh ideas\, expanded professional connections\, and practical strategies to support their organizations and employees. \nThis event will take place at Trillium in Spring Lake\, MI.
URL:https://grandrapids.org/event/hr-together-west-michigan/
LOCATION:Trillium\, 17246 Van Wagoner Rd\,\, Spring Lake\, MI\, 49456\, United States
CATEGORIES:Community Events
ATTACH;FMTTYPE=image/png:https://grandrapids.org/wp-content/uploads/2026/04/HR-Together-Logo-150-DPI-RGB.png
ORGANIZER;CN="American Society of Employers":MAILTO:hnezich@aseonline.org
END:VEVENT
END:VCALENDAR