BEGIN:VCALENDAR
VERSION:2.0
PRODID:-//Grand Rapids Chamber - ECPv6.15.20//NONSGML v1.0//EN
CALSCALE:GREGORIAN
METHOD:PUBLISH
X-ORIGINAL-URL:https://grandrapids.org
X-WR-CALDESC:Events for Grand Rapids Chamber
REFRESH-INTERVAL;VALUE=DURATION:PT1H
X-Robots-Tag:noindex
X-PUBLISHED-TTL:PT1H
BEGIN:VTIMEZONE
TZID:America/Detroit
BEGIN:DAYLIGHT
TZOFFSETFROM:-0500
TZOFFSETTO:-0400
TZNAME:EDT
DTSTART:20250309T070000
END:DAYLIGHT
BEGIN:STANDARD
TZOFFSETFROM:-0400
TZOFFSETTO:-0500
TZNAME:EST
DTSTART:20251102T060000
END:STANDARD
BEGIN:DAYLIGHT
TZOFFSETFROM:-0500
TZOFFSETTO:-0400
TZNAME:EDT
DTSTART:20260308T070000
END:DAYLIGHT
BEGIN:STANDARD
TZOFFSETFROM:-0400
TZOFFSETTO:-0500
TZNAME:EST
DTSTART:20261101T060000
END:STANDARD
BEGIN:DAYLIGHT
TZOFFSETFROM:-0500
TZOFFSETTO:-0400
TZNAME:EDT
DTSTART:20270314T070000
END:DAYLIGHT
BEGIN:STANDARD
TZOFFSETFROM:-0400
TZOFFSETTO:-0500
TZNAME:EST
DTSTART:20271107T060000
END:STANDARD
END:VTIMEZONE
BEGIN:VEVENT
DTSTART;TZID=America/Detroit:20260819T110000
DTEND;TZID=America/Detroit:20260819T130000
DTSTAMP:20260424T053848
CREATED:20251203T194802Z
LAST-MODIFIED:20260311T162849Z
UID:10000412-1787137200-1787144400@grandrapids.org
SUMMARY:OutPro Forum
DESCRIPTION:Registration & Pricing\n					\n					\n				\n								\n				\n				\n				\n							\n			\n		\n						\n				\n				\n				\n									Join us for a powerful and timely conversation with Jane Gietzen as she shares her personal journey to authenticity\, set against the backdrop of today’s shifting corporate landscape.  Through story\, reflection\, and dialogue\, Jane will explore how belonging shows up in real life and real workplaces\, offering perspective on how far we have come\, and what it will take to continue moving forward. This session is designed to spark thoughtful discussion\, practical ideas\, and renewed commitment to leading with courage and authenticity.  You’ll walk away with insight on:  The real value of showing up authentically at work Why the pace of change is influenced by many factors\, inside and outside our organizations Why progress is rarely a straight line One small shift you can make in your own sphere of influence to strengthen belonging Come ready to reflect\, connect\, and engage in the business of belonging.  								\n				\n					\n		\n					\n		\n		\n					\n		\n				\n				\n					Meet our speaker				\n				\n				\n				\n									\n				\n					\n				\n				\n							\n				\n			\n				\n				\n																														\n				\n		\n				\n				\n					Jane Gietzen				\n				\n				\n				\n					Principal & Executive Coach 				\n				\n				\n				\n					Resolve Coaching and Consulting 				\n				\n				\n				\n									\n					\n						\n						\n							\n									ABOUT Jane Gietzen\n					\n					\n				\n								\n				\n				\n				\n				\n				\n		\n						\n				\n					\n				\n				\n		\n						\n				\n				\n				\n				\n							\n			\n		\n						\n				\n					\n				\n		\n					\n				\n				\n					Event Sponsors				\n				\n		\n				\n				\n									Premier Sponsor 								\n				\n		\n				\n				\n																\n															\n															\n				\n				\n				\n		\n				\n				\n									Event Underwriters 								\n				\n		\n				\n				\n																\n															\n															\n				\n				\n				\n																\n															\n															\n				\n				\n				\n		\n				\n				\n									Community Trustee 								\n				\n		\n				\n				\n																\n															\n															\n				\n				\n				\n		\n				\n				\n									Chamber Champion
URL:https://grandrapids.org/event/outpro-forum-8-19/
LOCATION:Grand Rapids Chamber\, 250 Monroe Ave\, Grand Rapids\, MI\, 49503\, United States
CATEGORIES:Networking,Talent & Human Resources
ATTACH;FMTTYPE=image/jpeg:https://grandrapids.org/wp-content/uploads/2025/11/Graphic-OutPro-08.19.26-scaled.jpg
END:VEVENT
BEGIN:VEVENT
DTSTART;TZID=America/Detroit:20261028T110000
DTEND;TZID=America/Detroit:20261028T130000
DTSTAMP:20260424T053848
CREATED:20251203T194800Z
LAST-MODIFIED:20260311T162859Z
UID:10000413-1793185200-1793192400@grandrapids.org
SUMMARY:OutPro Forum
DESCRIPTION:Registration & Pricing\n					\n					\n				\n								\n				\n				\n				\n							\n			\n		\n						\n				\n				\n				\n									Join us for a powerful and timely conversation with Jane Gietzen as she shares her personal journey to authenticity\, set against the backdrop of today’s shifting corporate landscape.  Through story\, reflection\, and dialogue\, Jane will explore how belonging shows up in real life and real workplaces\, offering perspective on how far we have come\, and what it will take to continue moving forward. This session is designed to spark thoughtful discussion\, practical ideas\, and renewed commitment to leading with courage and authenticity.  You’ll walk away with insight on:  The real value of showing up authentically at work Why the pace of change is influenced by many factors\, inside and outside our organizations Why progress is rarely a straight line One small shift you can make in your own sphere of influence to strengthen belonging Come ready to reflect\, connect\, and engage in the business of belonging.  								\n				\n					\n		\n					\n		\n		\n					\n		\n				\n				\n					Meet our speaker				\n				\n				\n				\n									\n				\n					\n				\n				\n							\n				\n			\n				\n				\n																														\n				\n		\n				\n				\n					Jane Gietzen				\n				\n				\n				\n					Principal & Executive Coach 				\n				\n				\n				\n					Resolve Coaching and Consulting 				\n				\n				\n				\n									\n					\n						\n						\n							\n									ABOUT Jane Gietzen\n					\n					\n				\n								\n				\n				\n				\n				\n				\n		\n						\n				\n					\n				\n				\n		\n						\n				\n				\n				\n				\n							\n			\n		\n						\n				\n					\n				\n		\n					\n				\n				\n					Event Sponsors				\n				\n		\n				\n				\n									Premier Sponsor 								\n				\n		\n				\n				\n																\n															\n															\n				\n				\n				\n		\n				\n				\n									Event Underwriters 								\n				\n		\n				\n				\n																\n															\n															\n				\n				\n				\n																\n															\n															\n				\n				\n				\n		\n				\n				\n									Community Trustee 								\n				\n		\n				\n				\n																\n															\n															\n				\n				\n				\n		\n				\n				\n									Chamber Champion
URL:https://grandrapids.org/event/outpro-forum-10-28/
LOCATION:Grand Rapids Chamber\, 250 Monroe Ave\, Grand Rapids\, MI\, 49503\, United States
CATEGORIES:Networking,Talent & Human Resources
ATTACH;FMTTYPE=image/jpeg:https://grandrapids.org/wp-content/uploads/2025/11/Graphic-OutPro-10.28.26-scaled.jpg
END:VEVENT
END:VCALENDAR