BEGIN:VCALENDAR
VERSION:2.0
PRODID:-//Grand Rapids Chamber - ECPv6.15.20//NONSGML v1.0//EN
CALSCALE:GREGORIAN
METHOD:PUBLISH
X-WR-CALNAME:Grand Rapids Chamber
X-ORIGINAL-URL:https://grandrapids.org
X-WR-CALDESC:Events for Grand Rapids Chamber
REFRESH-INTERVAL;VALUE=DURATION:PT1H
X-Robots-Tag:noindex
X-PUBLISHED-TTL:PT1H
BEGIN:VTIMEZONE
TZID:America/Detroit
BEGIN:DAYLIGHT
TZOFFSETFROM:-0500
TZOFFSETTO:-0400
TZNAME:EDT
DTSTART:20240310T070000
END:DAYLIGHT
BEGIN:STANDARD
TZOFFSETFROM:-0400
TZOFFSETTO:-0500
TZNAME:EST
DTSTART:20241103T060000
END:STANDARD
BEGIN:DAYLIGHT
TZOFFSETFROM:-0500
TZOFFSETTO:-0400
TZNAME:EDT
DTSTART:20250309T070000
END:DAYLIGHT
BEGIN:STANDARD
TZOFFSETFROM:-0400
TZOFFSETTO:-0500
TZNAME:EST
DTSTART:20251102T060000
END:STANDARD
BEGIN:DAYLIGHT
TZOFFSETFROM:-0500
TZOFFSETTO:-0400
TZNAME:EDT
DTSTART:20260308T070000
END:DAYLIGHT
BEGIN:STANDARD
TZOFFSETFROM:-0400
TZOFFSETTO:-0500
TZNAME:EST
DTSTART:20261101T060000
END:STANDARD
END:VTIMEZONE
BEGIN:VEVENT
DTSTART;TZID=America/Detroit:20251008T153000
DTEND;TZID=America/Detroit:20251008T173000
DTSTAMP:20260424T100619
CREATED:20230523T142423Z
LAST-MODIFIED:20260119T141522Z
UID:10000121-1759937400-1759944600@grandrapids.org
SUMMARY:36th Annual ATHENA Awards Celebration
DESCRIPTION:The ATHENA Awards Celebration honors those who embody\, encourage\, and promote the inclusion of women. Join us for an afternoon of celebration\, inspiration\, networking\, and announcing our ATHENA award recipients on Wednesday\, October 8! \n\nRegistration & Pricing\n \nATHENA Leadership Award Finalists\nThe ATHENA Leadership Award is presented to an exceptional leader whose dedication to professional excellence\, community service\, and empowerment of women exemplifies the highest standards of leadership and mentorship. The finalists are: \n		\n				\n					\n				\n				\n							\n				\n			\n				\n				\n																														\n				\n		\n				\n				\n					Aaron Einfeld\, PhD				\n				\n				\n				\n					Founder & Executive Coach 				\n				\n				\n				\n					Awaken Leadership Solutions 				\n				\n				\n				\n									\n					\n						\n						\n							\n									ABOUT Aaron Einfeld\, PhD\n					\n					\n				\n								\n				\n				\n				\n				\n				\n			\n				\n				\n																														\n				\n		\n				\n				\n					Adam Dee				\n				\n				\n				\n					Vice President of Actuarial for Health Plan Business (HPB) 				\n				\n				\n				\n					Blue Cross Blue Shield of Michigan 				\n				\n				\n				\n									\n					\n						\n						\n							\n									ABOUT Adam Dee\n					\n					\n				\n								\n				\n				\n				\n				\n				\n			\n				\n				\n																														\n				\n		\n				\n				\n					Aida Dismondy				\n				\n				\n				\n					Senior Counsel 				\n				\n				\n				\n					Warner\, Norcross + Judd\, LLP 				\n				\n				\n				\n									\n					\n						\n						\n							\n									ABOUT Aida Dismondy\n					\n					\n				\n								\n				\n				\n				\n				\n				\n			\n				\n				\n																														\n				\n		\n				\n				\n					Al Vanderberg				\n				\n				\n				\n					County Administrator 				\n				\n				\n				\n					Kent County\, MI 				\n				\n				\n				\n									\n					\n						\n						\n							\n									ABOUT Al Vanderberg\n					\n					\n				\n								\n				\n				\n				\n				\n				\n			\n				\n				\n																														\n				\n		\n				\n				\n					Al Vanderberg				\n				\n				\n				\n					County Administrator/Controller 				\n				\n				\n				\n					Kent County 				\n				\n				\n				\n									\n					\n						\n						\n							\n									ABOUT Al Vanderberg\n					\n					\n				\n								\n				\n				\n				\n				\n				\n			\n				\n				\n																														\n				\n		\n				\n				\n					Alberto Garza				\n				\n				\n				\n					Owner 				\n				\n				\n				\n					General Wood Shop 				\n				\n				\n				\n									\n					\n						\n						\n							\n									ABOUT Alberto Garza\n					\n					\n				\n								\n				\n				\n				\n				\n				\n			\n				\n				\n																														\n				\n		\n				\n				\n					Alex Belding				\n				\n				\n				\n					CRO & Co-Founder 				\n				\n				\n				\n					WebriQ 				\n				\n				\n				\n									\n					\n						\n						\n							\n									ABOUT Alex Belding\n					\n					\n				\n								\n				\n				\n				\n				\n				\n			\n				\n				\n																														\n				\n		\n				\n				\n					Ali Anderson				\n				\n				\n				\n					CEO 				\n				\n				\n				\n					CraftCo. 				\n				\n				\n				\n									\n					\n						\n						\n							\n									ABOUT Ali Anderson\n					\n					\n				\n								\n				\n				\n				\n				\n				\n			\n				\n				\n																														\n				\n		\n				\n				\n					Alison Mast				\n				\n				\n				\n					President of West Michigan 				\n				\n				\n				\n					Northern Trust 				\n				\n				\n				\n									\n					\n						\n						\n							\n									ABOUT Alison Mast\n					\n					\n				\n								\n				\n				\n				\n				\n				\n			\n				\n				\n																														\n				\n		\n				\n				\n					Allie Walker				\n				\n				\n				\n					President 				\n				\n				\n				\n					Truscott Rossman 				\n				\n				\n				\n									\n					\n						\n						\n							\n									ABOUT Allie Walker\n					\n					\n				\n								\n				\n				\n				\n				\n				\n			\n				\n				\n																														\n				\n		\n				\n				\n					Amanda Hentsch				\n				\n				\n				\n					Director of Membership 				\n				\n				\n				\n					Grand Rapids Chamber 				\n				\n				\n				\n									\n					\n						\n						\n							\n									ABOUT Amanda Hentsch\n					\n					\n				\n								\n				\n				\n				\n				\n				\n			\n				\n				\n																														\n				\n		\n				\n				\n					Amy Lee				\n				\n				\n				\n					Executive Dean of Collaborative Programs 				\n				\n				\n				\n					Michigan Community College Association; Director\, EPiC Consortium 				\n				\n				\n				\n									\n					\n						\n						\n							\n									ABOUT Amy Lee\n					\n					\n				\n								\n				\n				\n				\n				\n				\n			\n				\n				\n																														\n				\n		\n				\n				\n					Amy Rencher				\n				\n				\n				\n					Senior Vice President 				\n				\n				\n				\n									\n					\n						\n						\n							\n									ABOUT Amy Rencher\n					\n					\n				\n								\n				\n				\n				\n				\n				\n			\n				\n				\n																														\n				\n		\n				\n				\n					Amy Taylor				\n				\n				\n				\n					President 				\n				\n				\n				\n					Columbus Downtown Development Corporation and Capitol South 				\n				\n				\n				\n									\n					\n						\n						\n							\n									ABOUT Amy Taylor\n					\n					\n				\n								\n				\n				\n				\n				\n				\n			\n				\n				\n																														\n				\n		\n				\n				\n					Ana Espinoza				\n				\n				\n				\n					Director of People Services 				\n				\n				\n				\n					Feyen Zylstra 				\n				\n				\n				\n									\n					\n						\n						\n							\n									ABOUT Ana Espinoza\n					\n					\n				\n								\n				\n				\n				\n				\n				\n		\n						\n				\n					\n				\n				\n		\nATHENA Young Professional Leadership Award Finalists\nThe ATHENA Young Professional Leadership Award is presented to a rising leader who demonstrates excellence\, creativity\, and initiative.  They serve as a role model and improve the quality of life for others. The finalists are: \n		\n				\n					\n				\n				\n							\n				\n			\n				\n				\n																														\n				\n		\n				\n				\n					Aaron Einfeld\, PhD				\n				\n				\n				\n					Founder & Executive Coach 				\n				\n				\n				\n					Awaken Leadership Solutions 				\n				\n				\n				\n									\n					\n						\n						\n							\n									ABOUT Aaron Einfeld\, PhD\n					\n					\n				\n								\n				\n				\n				\n				\n				\n			\n				\n				\n																														\n				\n		\n				\n				\n					Adam Dee				\n				\n				\n				\n					Vice President of Actuarial for Health Plan Business (HPB) 				\n				\n				\n				\n					Blue Cross Blue Shield of Michigan 				\n				\n				\n				\n									\n					\n						\n						\n							\n									ABOUT Adam Dee\n					\n					\n				\n								\n				\n				\n				\n				\n				\n			\n				\n				\n																														\n				\n		\n				\n				\n					Aida Dismondy				\n				\n				\n				\n					Senior Counsel 				\n				\n				\n				\n					Warner\, Norcross + Judd\, LLP 				\n				\n				\n				\n									\n					\n						\n						\n							\n									ABOUT Aida Dismondy\n					\n					\n				\n								\n				\n				\n				\n				\n				\n			\n				\n				\n																														\n				\n		\n				\n				\n					Al Vanderberg				\n				\n				\n				\n					County Administrator 				\n				\n				\n				\n					Kent County\, MI 				\n				\n				\n				\n									\n					\n						\n						\n							\n									ABOUT Al Vanderberg\n					\n					\n				\n								\n				\n				\n				\n				\n				\n			\n				\n				\n																														\n				\n		\n				\n				\n					Al Vanderberg				\n				\n				\n				\n					County Administrator/Controller 				\n				\n				\n				\n					Kent County 				\n				\n				\n				\n									\n					\n						\n						\n							\n									ABOUT Al Vanderberg\n					\n					\n				\n								\n				\n				\n				\n				\n				\n			\n				\n				\n																														\n				\n		\n				\n				\n					Alberto Garza				\n				\n				\n				\n					Owner 				\n				\n				\n				\n					General Wood Shop 				\n				\n				\n				\n									\n					\n						\n						\n							\n									ABOUT Alberto Garza\n					\n					\n				\n								\n				\n				\n				\n				\n				\n			\n				\n				\n																														\n				\n		\n				\n				\n					Alex Belding				\n				\n				\n				\n					CRO & Co-Founder 				\n				\n				\n				\n					WebriQ 				\n				\n				\n				\n									\n					\n						\n						\n							\n									ABOUT Alex Belding\n					\n					\n				\n								\n				\n				\n				\n				\n				\n			\n				\n				\n																														\n				\n		\n				\n				\n					Ali Anderson				\n				\n				\n				\n					CEO 				\n				\n				\n				\n					CraftCo. 				\n				\n				\n				\n									\n					\n						\n						\n							\n									ABOUT Ali Anderson\n					\n					\n				\n								\n				\n				\n				\n				\n				\n			\n				\n				\n																														\n				\n		\n				\n				\n					Alison Mast				\n				\n				\n				\n					President of West Michigan 				\n				\n				\n				\n					Northern Trust 				\n				\n				\n				\n									\n					\n						\n						\n							\n									ABOUT Alison Mast\n					\n					\n				\n								\n				\n				\n				\n				\n				\n			\n				\n				\n																														\n				\n		\n				\n				\n					Allie Walker				\n				\n				\n				\n					President 				\n				\n				\n				\n					Truscott Rossman 				\n				\n				\n				\n									\n					\n						\n						\n							\n									ABOUT Allie Walker\n					\n					\n				\n								\n				\n				\n				\n				\n				\n			\n				\n				\n																														\n				\n		\n				\n				\n					Amanda Hentsch				\n				\n				\n				\n					Director of Membership 				\n				\n				\n				\n					Grand Rapids Chamber 				\n				\n				\n				\n									\n					\n						\n						\n							\n									ABOUT Amanda Hentsch\n					\n					\n				\n								\n				\n				\n				\n				\n				\n			\n				\n				\n																														\n				\n		\n				\n				\n					Amy Lee				\n				\n				\n				\n					Executive Dean of Collaborative Programs 				\n				\n				\n				\n					Michigan Community College Association; Director\, EPiC Consortium 				\n				\n				\n				\n									\n					\n						\n						\n							\n									ABOUT Amy Lee\n					\n					\n				\n								\n				\n				\n				\n				\n				\n			\n				\n				\n																														\n				\n		\n				\n				\n					Amy Rencher				\n				\n				\n				\n					Senior Vice President 				\n				\n				\n				\n									\n					\n						\n						\n							\n									ABOUT Amy Rencher\n					\n					\n				\n								\n				\n				\n				\n				\n				\n			\n				\n				\n																														\n				\n		\n				\n				\n					Amy Taylor				\n				\n				\n				\n					President 				\n				\n				\n				\n					Columbus Downtown Development Corporation and Capitol South 				\n				\n				\n				\n									\n					\n						\n						\n							\n									ABOUT Amy Taylor\n					\n					\n				\n								\n				\n				\n				\n				\n				\n			\n				\n				\n																														\n				\n		\n				\n				\n					Ana Espinoza				\n				\n				\n				\n					Director of People Services 				\n				\n				\n				\n					Feyen Zylstra 				\n				\n				\n				\n									\n					\n						\n						\n							\n									ABOUT Ana Espinoza\n					\n					\n				\n								\n				\n				\n				\n				\n				\n		\n						\n				\n					\n				\n				\n		\nATHENA Organizational Leadership Award\nThe ATHENA Organizational Leadership Award recognizes a company that intentionally fosters an environment for women to thrive. This organization is outstanding in their pursuit of supporting\, developing\, and honoring women leaders in every stage of their life and career. This year\, the recognition goes to Huntington Bank! \n\n  \nEvent Sponsors\nPremier Sponsor \n\n  \nLead Supporters \n\n \n\n \n\n \n\n \n\n \n\n \n\n  \nChamber Champions \n\n \n\n \n\n \n\n \n\n \n\n \n\n \n\n \n\n \n\n \n\n \n\n \n\n  \nProgram Underwriters \n\n \n\n \n\n  \nFinalist Reception \n\n  \nPrint Sponsor \n\n  \nLinen Sponsor
URL:https://grandrapids.org/event/athena-awards-celebration/
LOCATION:JW Marriott Grand Rapids\, 235 Louis St NW\, Grand Rapids\, MI\, 49503\, United States
CATEGORIES:Annual Events & Summits,Talent & Human Resources,Talent Development
ATTACH;FMTTYPE=image/jpeg:https://grandrapids.org/wp-content/uploads/2023/05/Graphic-ATHENA-Awards-Celebration-10.08.25-1.jpg
END:VEVENT
BEGIN:VEVENT
DTSTART;TZID=America/Detroit:20250610T073000
DTEND;TZID=America/Detroit:20250610T130000
DTSTAMP:20260424T100620
CREATED:20230523T142423Z
LAST-MODIFIED:20260119T141616Z
UID:10000104-1749540600-1749560400@grandrapids.org
SUMMARY:West Michigan CEO Summit
DESCRIPTION:At the CEO Summit\, we will explore “A Resilient Edge” – how top executives sustain momentum\, sharpen strategic focus\, combat stagnation\, and lead their teams to achieve more. \nSuccess demands more than vision- it requires purposeful action and execution to resist complacency. It’s about cultivating meaningful goals and driving forward with determination\, agility\, and adaptability. \nThrough inspiring keynotes\, practical insights\, and peer-driven discussions\, you’ll learn how “A Resilient Edge” can position you and your company to thrive in a world where continuous improvement is key. \nSee our event recap\n\nCEO Summit Recap
URL:https://grandrapids.org/event/west-michigan-ceo-summit/
LOCATION:JW Marriott Grand Rapids\, 235 Louis St NW\, Grand Rapids\, MI\, 49503\, United States
CATEGORIES:Annual Events & Summits,Economic Growth
END:VEVENT
END:VCALENDAR